BEGIN:VCALENDAR
VERSION:2.0
PRODID:-//MOK Brzesko - ECPv6.10.3//NONSGML v1.0//EN
CALSCALE:GREGORIAN
METHOD:PUBLISH
X-ORIGINAL-URL:https://mok-brzesko.pl
X-WR-CALDESC:Wydarzenia dla MOK Brzesko
REFRESH-INTERVAL;VALUE=DURATION:PT1H
X-Robots-Tag:noindex
X-PUBLISHED-TTL:PT1H
BEGIN:VTIMEZONE
TZID:Europe/Warsaw
BEGIN:DAYLIGHT
TZOFFSETFROM:+0100
TZOFFSETTO:+0200
TZNAME:CEST
DTSTART:20220327T010000
END:DAYLIGHT
BEGIN:STANDARD
TZOFFSETFROM:+0200
TZOFFSETTO:+0100
TZNAME:CET
DTSTART:20221030T010000
END:STANDARD
END:VTIMEZONE
BEGIN:VEVENT
DTSTART;VALUE=DATE:20220410
DTEND;VALUE=DATE:20220411
DTSTAMP:20260421T221836
CREATED:20220323T101439Z
LAST-MODIFIED:20220323T101721Z
UID:4085-1649548800-1649635199@mok-brzesko.pl
SUMMARY:II Brzeski Jarmark Wielkanocny
DESCRIPTION:
URL:https://mok-brzesko.pl/event/ii-brzeski-jarmark-wielkanocny/
LOCATION:Rynek\, Rynek\, Brzesko\, Małopolskie\, 32-800
ATTACH;FMTTYPE=image/png:https://mok-brzesko.pl/wp-content/uploads/2022/03/Plakat-Jarmark-Wielkanocny-1.png
END:VEVENT
END:VCALENDAR