BEGIN:VCALENDAR
VERSION:2.0
PRODID:-//MOK Brzesko - ECPv6.10.3//NONSGML v1.0//EN
CALSCALE:GREGORIAN
METHOD:PUBLISH
X-ORIGINAL-URL:https://mok-brzesko.pl
X-WR-CALDESC:Wydarzenia dla MOK Brzesko
REFRESH-INTERVAL;VALUE=DURATION:PT1H
X-Robots-Tag:noindex
X-PUBLISHED-TTL:PT1H
BEGIN:VTIMEZONE
TZID:Europe/Warsaw
BEGIN:DAYLIGHT
TZOFFSETFROM:+0100
TZOFFSETTO:+0200
TZNAME:CEST
DTSTART:20220327T010000
END:DAYLIGHT
BEGIN:STANDARD
TZOFFSETFROM:+0200
TZOFFSETTO:+0100
TZNAME:CET
DTSTART:20221030T010000
END:STANDARD
END:VTIMEZONE
BEGIN:VEVENT
DTSTART;TZID=Europe/Warsaw:20221002T100000
DTEND;TZID=Europe/Warsaw:20221002T140000
DTSTAMP:20260421T133227
CREATED:20220930T072021Z
LAST-MODIFIED:20220930T072021Z
UID:6418-1664704800-1664719200@mok-brzesko.pl
SUMMARY:Otwarta Akcja Krwiodawstwa
DESCRIPTION:
URL:https://mok-brzesko.pl/event/otwarta-akcja-krwiodawstwa/
LOCATION:Plac Kazimierza Wielkiego\, Plac Kazimierza Wielkiego\, Brzesko\, Małopolskie\, 32-800\, Poland
ATTACH;FMTTYPE=image/png:https://mok-brzesko.pl/wp-content/uploads/2022/09/Plakat-krwiodawstwo.png
END:VEVENT
END:VCALENDAR