BEGIN:VCALENDAR
VERSION:2.0
PRODID:-//MOK Brzesko - ECPv6.10.3//NONSGML v1.0//EN
CALSCALE:GREGORIAN
METHOD:PUBLISH
X-ORIGINAL-URL:https://mok-brzesko.pl
X-WR-CALDESC:Wydarzenia dla MOK Brzesko
REFRESH-INTERVAL;VALUE=DURATION:PT1H
X-Robots-Tag:noindex
X-PUBLISHED-TTL:PT1H
BEGIN:VTIMEZONE
TZID:Europe/Warsaw
BEGIN:DAYLIGHT
TZOFFSETFROM:+0100
TZOFFSETTO:+0200
TZNAME:CEST
DTSTART:20220327T010000
END:DAYLIGHT
BEGIN:STANDARD
TZOFFSETFROM:+0200
TZOFFSETTO:+0100
TZNAME:CET
DTSTART:20221030T010000
END:STANDARD
END:VTIMEZONE
BEGIN:VEVENT
DTSTART;TZID=Europe/Warsaw:20221023T160000
DTEND;TZID=Europe/Warsaw:20221023T200000
DTSTAMP:20260421T133117
CREATED:20221019T120058Z
LAST-MODIFIED:20221019T120058Z
UID:6718-1666540800-1666555200@mok-brzesko.pl
SUMMARY:XI Międzygminny Przegląd Rękodzieła i Kuchni Regionalnej
DESCRIPTION:
URL:https://mok-brzesko.pl/event/xi-miedzygminny-przeglad-rekodziela-i-kuchni-regionalnej/
LOCATION:Małopolskie
ATTACH;FMTTYPE=image/jpeg:https://mok-brzesko.pl/wp-content/uploads/2022/10/3.-przeglad-rekodziela-plakat-2022-scaled.jpg
END:VEVENT
END:VCALENDAR