BEGIN:VCALENDAR
VERSION:2.0
PRODID:-//MOK Brzesko - ECPv6.10.3//NONSGML v1.0//EN
CALSCALE:GREGORIAN
METHOD:PUBLISH
X-ORIGINAL-URL:https://mok-brzesko.pl
X-WR-CALDESC:Wydarzenia dla MOK Brzesko
REFRESH-INTERVAL;VALUE=DURATION:PT1H
X-Robots-Tag:noindex
X-PUBLISHED-TTL:PT1H
BEGIN:VTIMEZONE
TZID:Europe/Warsaw
BEGIN:DAYLIGHT
TZOFFSETFROM:+0100
TZOFFSETTO:+0200
TZNAME:CEST
DTSTART:20220327T010000
END:DAYLIGHT
BEGIN:STANDARD
TZOFFSETFROM:+0200
TZOFFSETTO:+0100
TZNAME:CET
DTSTART:20221030T010000
END:STANDARD
END:VTIMEZONE
BEGIN:VEVENT
DTSTART;TZID=Europe/Warsaw:20221119T160000
DTEND;TZID=Europe/Warsaw:20221119T180000
DTSTAMP:20260423T114010
CREATED:20221013T061240Z
LAST-MODIFIED:20221013T061335Z
UID:6641-1668873600-1668880800@mok-brzesko.pl
SUMMARY:Stand up - Cezary Pazura
DESCRIPTION:Bilety można nabyć w Regionalnym Centrum Kulturalno-Bibliotecznym (plac Targowy 10)\, w sali 219\, na II piętrze.
URL:https://mok-brzesko.pl/event/stand-up-cezary-pazura/
LOCATION:Miejski Ośrodek Kultury w Brzesku\, plac Targowy 10\, Brzesko\, Małopolskie\, 32-800\, Poland
ATTACH;FMTTYPE=image/jpeg:https://mok-brzesko.pl/wp-content/uploads/2022/10/Cezary-Pazura-STAND-UP-1.jpg
END:VEVENT
END:VCALENDAR