BEGIN:VCALENDAR
VERSION:2.0
PRODID:-//MOK Brzesko - ECPv6.10.3//NONSGML v1.0//EN
CALSCALE:GREGORIAN
METHOD:PUBLISH
X-ORIGINAL-URL:https://mok-brzesko.pl
X-WR-CALDESC:Wydarzenia dla MOK Brzesko
REFRESH-INTERVAL;VALUE=DURATION:PT1H
X-Robots-Tag:noindex
X-PUBLISHED-TTL:PT1H
BEGIN:VTIMEZONE
TZID:Europe/Warsaw
BEGIN:DAYLIGHT
TZOFFSETFROM:+0100
TZOFFSETTO:+0200
TZNAME:CEST
DTSTART:20220327T010000
END:DAYLIGHT
BEGIN:STANDARD
TZOFFSETFROM:+0200
TZOFFSETTO:+0100
TZNAME:CET
DTSTART:20221030T010000
END:STANDARD
END:VTIMEZONE
BEGIN:VEVENT
DTSTART;TZID=Europe/Warsaw:20220406T173000
DTEND;TZID=Europe/Warsaw:20220406T190000
DTSTAMP:20260421T205849
CREATED:20220323T103621Z
LAST-MODIFIED:20220323T104303Z
UID:4095-1649266200-1649271600@mok-brzesko.pl
SUMMARY:Kabaret Młodych Panów - "To jest chore!" - 17:30
DESCRIPTION:Bilety dostępne pod adresem http://biletowakasa.pl lub https://biletyna.pl
URL:https://mok-brzesko.pl/event/kabaret-mlodych-panow-to-jest-chore-1730/
LOCATION:Miejski Ośrodek Kultury w Brzesku\, plac Targowy 10\, Brzesko\, Małopolskie\, 32-800\, Poland
ATTACH;FMTTYPE=image/jpeg:https://mok-brzesko.pl/wp-content/uploads/2022/02/kabaretmlodychpanow.jpg
END:VEVENT
BEGIN:VEVENT
DTSTART;TZID=Europe/Warsaw:20220406T200000
DTEND;TZID=Europe/Warsaw:20220406T220000
DTSTAMP:20260421T205849
CREATED:20220323T103739Z
LAST-MODIFIED:20220323T104239Z
UID:4097-1649275200-1649282400@mok-brzesko.pl
SUMMARY:Kabaret Młodych Panów - "To jest chore!" - 20:00
DESCRIPTION:Bilety dostępne pod adresem http://biletowakasa.pl lub https://biletyna.pl
URL:https://mok-brzesko.pl/event/kabaret-mlodych-panow-to-jest-chore-2000/
LOCATION:Miejski Ośrodek Kultury w Brzesku\, plac Targowy 10\, Brzesko\, Małopolskie\, 32-800\, Poland
ATTACH;FMTTYPE=image/jpeg:https://mok-brzesko.pl/wp-content/uploads/2022/02/kabaretmlodychpanow-strona001.jpg
END:VEVENT
BEGIN:VEVENT
DTSTART;TZID=Europe/Warsaw:20220407T180000
DTEND;TZID=Europe/Warsaw:20220407T200000
DTSTAMP:20260421T205849
CREATED:20220329T074251Z
LAST-MODIFIED:20220329T074251Z
UID:4152-1649354400-1649361600@mok-brzesko.pl
SUMMARY:Spotkanie z Jerzym Skarżyńskim - "Mick Fleetwood Tribute Concert"
DESCRIPTION:
URL:https://mok-brzesko.pl/event/spotkanie-z-jerzym-skarzynskim-mick-fleetwood-tribute-concert/
LOCATION:Miejski Ośrodek Kultury w Brzesku\, plac Targowy 10\, Brzesko\, Małopolskie\, 32-800\, Poland
ATTACH;FMTTYPE=image/jpeg:https://mok-brzesko.pl/wp-content/uploads/2022/03/JERZY-SKARZYNSKI-mick-fleetwood--scaled.jpg
END:VEVENT
BEGIN:VEVENT
DTSTART;VALUE=DATE:20220410
DTEND;VALUE=DATE:20220411
DTSTAMP:20260421T205849
CREATED:20220323T101439Z
LAST-MODIFIED:20220323T101721Z
UID:4085-1649548800-1649635199@mok-brzesko.pl
SUMMARY:II Brzeski Jarmark Wielkanocny
DESCRIPTION:
URL:https://mok-brzesko.pl/event/ii-brzeski-jarmark-wielkanocny/
LOCATION:Rynek\, Rynek\, Brzesko\, Małopolskie\, 32-800
ATTACH;FMTTYPE=image/png:https://mok-brzesko.pl/wp-content/uploads/2022/03/Plakat-Jarmark-Wielkanocny-1.png
END:VEVENT
BEGIN:VEVENT
DTSTART;TZID=Europe/Warsaw:20220424T170000
DTEND;TZID=Europe/Warsaw:20220424T190000
DTSTAMP:20260421T205849
CREATED:20220412T101327Z
LAST-MODIFIED:20220413T074910Z
UID:4248-1650819600-1650826800@mok-brzesko.pl
SUMMARY:MOK i Przyjaciele dla Ukrainy
DESCRIPTION:Zapraszamy na koncert charytatywny mający na celu wsparcie naszych sąsiadów gnębionych wojną.\n\nNa jednej scenie spotkają się członkowie naszego zespołu rockowego Kulson Band\, kabaretu Sprawa Drugorzędna\, scholi dziecięcej Ziarenka Nadziei\, Grupy Teatralnej GT\, ZPiT Porębianie\, Miejskiej Orkiestry Dętej oraz nasi przyjaciele i zaproszeni goście.Wybrzmią znane przeboje oraz utwory skomponowane specjalnie na tę okazję. \n\nKoncertowi przyświeca ponadczasowa myśl Jana Pawła II:\n\nWolność jest człowiekowi dana i zadana\n\n\nWstęp wolny. Bądźcie z nami.
URL:https://mok-brzesko.pl/event/mok-i-przyjaciele-dla-ukrainy/
LOCATION:Miejski Ośrodek Kultury w Brzesku\, plac Targowy 10\, Brzesko\, Małopolskie\, 32-800\, Poland
ATTACH;FMTTYPE=image/png:https://mok-brzesko.pl/wp-content/uploads/2022/04/PLAKAT-A3-ukraina-koncert.png
END:VEVENT
END:VCALENDAR