BEGIN:VCALENDAR
VERSION:2.0
PRODID:-//MOK Brzesko - ECPv6.10.3//NONSGML v1.0//EN
CALSCALE:GREGORIAN
METHOD:PUBLISH
X-WR-CALNAME:MOK Brzesko
X-ORIGINAL-URL:https://mok-brzesko.pl
X-WR-CALDESC:Wydarzenia dla MOK Brzesko
REFRESH-INTERVAL;VALUE=DURATION:PT1H
X-Robots-Tag:noindex
X-PUBLISHED-TTL:PT1H
BEGIN:VTIMEZONE
TZID:Europe/Warsaw
BEGIN:DAYLIGHT
TZOFFSETFROM:+0100
TZOFFSETTO:+0200
TZNAME:CEST
DTSTART:20220327T010000
END:DAYLIGHT
BEGIN:STANDARD
TZOFFSETFROM:+0200
TZOFFSETTO:+0100
TZNAME:CET
DTSTART:20221030T010000
END:STANDARD
END:VTIMEZONE
BEGIN:VEVENT
DTSTART;TZID=Europe/Warsaw:20220503T170000
DTEND;TZID=Europe/Warsaw:20220503T190000
DTSTAMP:20260421T192420
CREATED:20220421T123801Z
LAST-MODIFIED:20220428T073010Z
UID:4361-1651597200-1651604400@mok-brzesko.pl
SUMMARY:Uroczystości majowe i wspólne śpiewanie pieśni patriotycznych
DESCRIPTION:
URL:https://mok-brzesko.pl/event/uroczystosci-majowe-i-wspolne-spiewanie-piesni-patriotycznych/
LOCATION:Miejski Ośrodek Kultury w Brzesku\, plac Targowy 10\, Brzesko\, Małopolskie\, 32-800\, Poland
ATTACH;FMTTYPE=image/png:https://mok-brzesko.pl/wp-content/uploads/2022/04/maj_plakat.png
END:VEVENT
BEGIN:VEVENT
DTSTART;TZID=Europe/Warsaw:20220505T180000
DTEND;TZID=Europe/Warsaw:20220505T200000
DTSTAMP:20260421T192420
CREATED:20220421T124004Z
LAST-MODIFIED:20220428T102959Z
UID:4365-1651773600-1651780800@mok-brzesko.pl
SUMMARY:Spotkanie z Jerzym Skarżyńskim
DESCRIPTION:
URL:https://mok-brzesko.pl/event/spotkanie-z-jerzym-skarzynskim/
LOCATION:Miejski Ośrodek Kultury w Brzesku\, plac Targowy 10\, Brzesko\, Małopolskie\, 32-800\, Poland
ATTACH;FMTTYPE=image/png:https://mok-brzesko.pl/wp-content/uploads/2022/04/JERZY-SKARZYNSKI-queenpaul-rodgers.png
END:VEVENT
BEGIN:VEVENT
DTSTART;VALUE=DATE:20220511
DTEND;VALUE=DATE:20220513
DTSTAMP:20260421T192420
CREATED:20220421T124335Z
LAST-MODIFIED:20220429T121710Z
UID:4367-1652227200-1652399999@mok-brzesko.pl
SUMMARY:10. Konfrontacje Teatrów Dzieci i Młodzieży "Teatralne Lustra"
DESCRIPTION:Szczegółowy program wydarzenia dostępny poniżej:
URL:https://mok-brzesko.pl/event/10-konfrontacje-teatrow-dzieci-i-mlodziezy-teatralne-lustra/
LOCATION:Miejski Ośrodek Kultury w Brzesku\, plac Targowy 10\, Brzesko\, Małopolskie\, 32-800\, Poland
ATTACH;FMTTYPE=image/png:https://mok-brzesko.pl/wp-content/uploads/2022/04/BANER-A3-z-programem.png
END:VEVENT
BEGIN:VEVENT
DTSTART;TZID=Europe/Warsaw:20220519T170000
DTEND;TZID=Europe/Warsaw:20220519T190000
DTSTAMP:20260421T192420
CREATED:20220510T103649Z
LAST-MODIFIED:20220513T112629Z
UID:4541-1652979600-1652986800@mok-brzesko.pl
SUMMARY:Koncert Szkoły Muzycznej I st. w Brzesku
DESCRIPTION:
URL:https://mok-brzesko.pl/event/koncert-szkoly-muzycznej-i-st-w-brzesku/
LOCATION:Miejski Ośrodek Kultury w Brzesku\, plac Targowy 10\, Brzesko\, Małopolskie\, 32-800\, Poland
ATTACH;FMTTYPE=image/jpeg:https://mok-brzesko.pl/wp-content/uploads/2022/05/Plakat-Szkola-Muzyczna-1.jpg
END:VEVENT
BEGIN:VEVENT
DTSTART;TZID=Europe/Warsaw:20220521T160000
DTEND;TZID=Europe/Warsaw:20220521T190000
DTSTAMP:20260421T192420
CREATED:20220513T103831Z
LAST-MODIFIED:20220513T103831Z
UID:4687-1653148800-1653159600@mok-brzesko.pl
SUMMARY:Jubileusz 10-lecia Brzeskich Amazonek
DESCRIPTION:
URL:https://mok-brzesko.pl/event/jubileusz-10-lecia-brzeskich-amazonek/
LOCATION:Miejski Ośrodek Kultury w Brzesku\, plac Targowy 10\, Brzesko\, Małopolskie\, 32-800\, Poland
ATTACH;FMTTYPE=image/jpeg:https://mok-brzesko.pl/wp-content/uploads/2022/05/Amazonki_10-lat_plakatA3.jpg
END:VEVENT
BEGIN:VEVENT
DTSTART;TZID=Europe/Warsaw:20220522T170000
DTEND;TZID=Europe/Warsaw:20220522T190000
DTSTAMP:20260421T192420
CREATED:20220516T113721Z
LAST-MODIFIED:20220516T113721Z
UID:4695-1653238800-1653246000@mok-brzesko.pl
SUMMARY:Spektakl Muzyczny "Zakochany Złodziej"
DESCRIPTION:
URL:https://mok-brzesko.pl/event/spektakl-muzyczny-zakochany-zlodziej/
LOCATION:Miejski Ośrodek Kultury w Brzesku\, plac Targowy 10\, Brzesko\, Małopolskie\, 32-800\, Poland
ATTACH;FMTTYPE=image/jpeg:https://mok-brzesko.pl/wp-content/uploads/2022/05/Zakochany-zlodziej-22-maja-2022-scaled.jpg
END:VEVENT
END:VCALENDAR